﻿BEGIN:VCALENDAR
VERSION:2.0
PRODID:-//wp-events-plugin.com//7.2.3.1//EN
TZID:Europe/Rome
X-WR-TIMEZONE:Europe/Rome
BEGIN:VEVENT
UID:3@magazinerandom.com
DTSTART;TZID=Europe/Rome:20150206T173000
DTEND;TZID=Europe/Rome:20150206T190000
DTSTAMP:20150202T220547Z
URL:https://magazinerandom.com/calendario-eventi/test-2/
SUMMARY:test 4 book a place
DESCRIPTION:Schema Sala\n\n[book_a_place scheme="6"]\n\n\n\nEvento book\n[b
 ook_a_place_event id="4"]\n\n\n\n\n\n\n"Un Paese che non sostiene il suo t
 eatro o è morto\, o è moribondo" (Federico Garcia Lorca).
END:VEVENT
BEGIN:VTIMEZONE
TZID:Europe/Rome
X-LIC-LOCATION:Europe/Rome
BEGIN:STANDARD
DTSTART:20141026T020000
TZOFFSETFROM:+0200
TZOFFSETTO:+0100
TZNAME:CET
END:STANDARD
END:VTIMEZONE
END:VCALENDAR