﻿BEGIN:VCALENDAR
VERSION:2.0
PRODID:-//wp-events-plugin.com//7.2.3.1//EN
TZID:Europe/Rome
X-WR-TIMEZONE:Europe/Rome
BEGIN:VEVENT
UID:76@magazinerandom.com
DTSTART;TZID=Europe/Rome:20150128T210000
DTEND;TZID=Europe/Rome:20150128T210000
DTSTAMP:20150130T211906Z
URL:https://magazinerandom.com/calendario-eventi/teatro-intellettuali/
SUMMARY:Le intellettuali | Spettacolo teatrale
DESCRIPTION:Mettere in scena un testo di Moliere significa per prima cosa p
 orsi il problema della traduzione e scegliere la traduzione di Cesare Garb
 oli per “Le intellettuali” significa scegliere già una chiave di lett
 ura critica del testo. Garboli ci induce a sottolineare e ad esasperare i 
 rapporti dei personaggi usando un linguaggio diretto\, a tratti violento\,
  evitando sdolcinature. 
LOCATION:\, \, 
X-APPLE-STRUCTURED-LOCATION;VALUE=URI;X-ADDRESS=\, ;X-APPLE-RADIUS=100;X-TI
 TLE=:geo:0,0
END:VEVENT
BEGIN:VTIMEZONE
TZID:Europe/Rome
X-LIC-LOCATION:Europe/Rome
BEGIN:STANDARD
DTSTART:20141026T020000
TZOFFSETFROM:+0200
TZOFFSETTO:+0100
TZNAME:CET
END:STANDARD
END:VTIMEZONE
END:VCALENDAR