﻿BEGIN:VCALENDAR
VERSION:2.0
PRODID:-//wp-events-plugin.com//7.2.3.1//EN
TZID:Europe/Rome
X-WR-TIMEZONE:Europe/Rome
BEGIN:VEVENT
UID:122@magazinerandom.com
DTSTART;TZID=Europe/Rome:20150209T210000
DTEND;TZID=Europe/Rome:20150209T223000
DTSTAMP:20150130T231311Z
URL:https://magazinerandom.com/calendario-eventi/pallida-felicita-teatro-a
 rgentina/
SUMMARY:Una pallida felicità | Teatro Argentina
DESCRIPTION:Il testo è un ammirevole indagine sul mondo poetico di Giovann
 i Pascoli e della sua famiglia\, Maria e Ida Pascoli\, le due sorelle che 
 tanta parte hanno avuto nello sviluppo della poetica pascoliana e dei lega
 mi fra verità e bugie\, sentimenti profondi e meschinità contingenti\, f
 ra detto e indicibile\, fra la portanza della parola e la sua miseria\, ne
 l trionfo del sottinteso.
ATTACH;FMTTYPE=image/jpeg:https://magazinerandom.com/wp-content/uploads/20
 15/01/argentina_scritture_presente.jpg
LOCATION:Teatro Argentina\,  Largo di Torre Argentina\, 52 \, Roma\, Italia
GEO:41.8959061;12.477250400000003
X-APPLE-STRUCTURED-LOCATION;VALUE=URI;X-ADDRESS= Largo di Torre Argentina\,
  52 \, Roma\, Italia;X-APPLE-RADIUS=100;X-TITLE=Teatro Argentina:geo:41.89
 59061,12.477250400000003
END:VEVENT
BEGIN:VTIMEZONE
TZID:Europe/Rome
X-LIC-LOCATION:Europe/Rome
BEGIN:STANDARD
DTSTART:20141026T020000
TZOFFSETFROM:+0200
TZOFFSETTO:+0100
TZNAME:CET
END:STANDARD
END:VTIMEZONE
END:VCALENDAR