﻿BEGIN:VCALENDAR
VERSION:2.0
PRODID:-//wp-events-plugin.com//7.2.3.1//EN
TZID:Europe/Rome
X-WR-TIMEZONE:Europe/Rome
BEGIN:VEVENT
UID:67@magazinerandom.com
DTSTART;TZID=Europe/Rome:20150124T210000
DTEND;TZID=Europe/Rome:20150124T223000
DTSTAMP:20150112T180232Z
URL:https://magazinerandom.com/calendario-eventi/opera-tre-soldi-2015-01-2
 4/
SUMMARY:L'opera da tre soldi
DESCRIPTION:Brecht è il meno assimilabile degli autori occidentali degli u
 ltimi cento anni. "Sidecar"\, Sale multimediali d'arti performative Roma\,
  propone lo spettacolo "L'opera da tre soldi". Su questa pagina info e pre
 notazioni.
LOCATION:Sidecar\, Piazzale degli Eroi 9\, Roma\, Italia
GEO:41.90954199999999;12.448550800000021
X-APPLE-STRUCTURED-LOCATION;VALUE=URI;X-ADDRESS=Piazzale degli Eroi 9\, Rom
 a\, Italia;X-APPLE-RADIUS=100;X-TITLE=Sidecar:geo:41.90954199999999,12.448
 550800000021
END:VEVENT
BEGIN:VTIMEZONE
TZID:Europe/Rome
X-LIC-LOCATION:Europe/Rome
BEGIN:STANDARD
DTSTART:20141026T020000
TZOFFSETFROM:+0200
TZOFFSETTO:+0100
TZNAME:CET
END:STANDARD
END:VTIMEZONE
END:VCALENDAR