﻿BEGIN:VCALENDAR
VERSION:2.0
PRODID:-//wp-events-plugin.com//7.2.3.1//EN
TZID:Europe/Rome
X-WR-TIMEZONE:Europe/Rome
BEGIN:VEVENT
UID:1@magazinerandom.com
DTSTART;TZID=Europe/Rome:20141225T173000
DTEND;TZID=Europe/Rome:20141226T210000
DTSTAMP:20150109T011116Z
URL:https://magazinerandom.com/calendario-eventi/mille-lire-mese-spettacol
 o-musicale/
SUMMARY:“Mille lire al mese”\, spettacolo musicale
DESCRIPTION:[caption id="attachment_4093" align="alignright" width="225" cl
 ass=" "] "Mille lire al mese". Spettacolo musicale.[/caption]\n\nIn questa
  pagina è possibile prenotare in parola o acquistare un biglietto per le 
 date in calendario.\n\nPREVENDITA ON-LINE (posto garantito):\n[purchase_li
 nk id="1568" style="button" color="green" text="PREVENDITA"]PREVENDITA IN 
 LOCO (posto garantito):\nPer scegliere il posto numerato\, rivolgersi dire
 ttamente alla prevendita\, disponibile a Nepi (Vt)\, presso i seguenti ese
 rcizi commerciali:\nPAGGI INTERCOIFFURE - Corso Matteotti\, tel. 076155782
 9\nBAR DEL CORSO - Corso Matteotti\nPIZZERIA DANILO - via Garibaldi\, tel.
  0761557042\nMACELLERIA ATTILIO - località Bottata\n\nPRENOTAZIONE:\nLa p
 renotazione on-line non garantisce l'assegnazione della poltrona in caso d
 i overbooking. Verranno assegnati i migliori posti disponibili. Preferibil
 mente utilizzare la prevendita on-line.
LOCATION:Teatro San Pellegrino\, Via Garibaldi\, 169\, Nepi\, Viterbo\, Ita
 lia
GEO:42.242486;12.354295999999977
X-APPLE-STRUCTURED-LOCATION;VALUE=URI;X-ADDRESS=Via Garibaldi\, 169\, Nepi\
 , Viterbo\, Italia;X-APPLE-RADIUS=100;X-TITLE=Teatro San Pellegrino:geo:42
 .242486,12.354295999999977
END:VEVENT
BEGIN:VTIMEZONE
TZID:Europe/Rome
X-LIC-LOCATION:Europe/Rome
BEGIN:STANDARD
DTSTART:20141026T020000
TZOFFSETFROM:+0200
TZOFFSETTO:+0100
TZNAME:CET
END:STANDARD
END:VTIMEZONE
END:VCALENDAR