﻿BEGIN:VCALENDAR
VERSION:2.0
PRODID:-//wp-events-plugin.com//7.2.3.1//EN
TZID:Europe/Rome
X-WR-TIMEZONE:Europe/Rome
BEGIN:VEVENT
UID:121@magazinerandom.com
DTSTART;TZID=Europe/Rome:20150208T173000
DTEND;TZID=Europe/Rome:20150208T190000
DTSTAMP:20150130T224903Z
URL:https://magazinerandom.com/calendario-eventi/intellettuali-spettacolo-
 teatrale-2015-02-08/
SUMMARY:LE INTELLETTUALI | Spettacolo teatrale
DESCRIPTION:Mettere in scena un testo di Moliere significa per prima cosa p
 orsi il problema della traduzione e scegliere la traduzione di Cesare Garb
 oli per “Le intellettuali” significa scegliere già una chiave di lett
 ura critica del testo. Garboli ci induce a sottolineare e ad esasperare i 
 rapporti dei personaggi usando un linguaggio diretto\, a tratti violento\,
  evitando sdolcinature.
LOCATION:Teatro Belli\, Piazza Sant'Apollonia 11\, Roma\, Italia
GEO:41.8899531;12.470791500000018
X-APPLE-STRUCTURED-LOCATION;VALUE=URI;X-ADDRESS=Piazza Sant'Apollonia 11\, 
 Roma\, Italia;X-APPLE-RADIUS=100;X-TITLE=Teatro Belli:geo:41.8899531,12.47
 0791500000018
END:VEVENT
BEGIN:VTIMEZONE
TZID:Europe/Rome
X-LIC-LOCATION:Europe/Rome
BEGIN:STANDARD
DTSTART:20141026T020000
TZOFFSETFROM:+0200
TZOFFSETTO:+0100
TZNAME:CET
END:STANDARD
END:VTIMEZONE
END:VCALENDAR